BEGIN:VCALENDAR
VERSION:2.0
PRODID:-//Visit Tavistock - ECPv6.15.20//NONSGML v1.0//EN
CALSCALE:GREGORIAN
METHOD:PUBLISH
X-ORIGINAL-URL:https://vtavi-b9grp.projectbeta.co.uk
X-WR-CALDESC:Events for Visit Tavistock
REFRESH-INTERVAL;VALUE=DURATION:PT1H
X-Robots-Tag:noindex
X-PUBLISHED-TTL:PT1H
BEGIN:VTIMEZONE
TZID:Europe/London
BEGIN:DAYLIGHT
TZOFFSETFROM:+0000
TZOFFSETTO:+0100
TZNAME:BST
DTSTART:20250330T010000
END:DAYLIGHT
BEGIN:STANDARD
TZOFFSETFROM:+0100
TZOFFSETTO:+0000
TZNAME:GMT
DTSTART:20251026T010000
END:STANDARD
BEGIN:DAYLIGHT
TZOFFSETFROM:+0000
TZOFFSETTO:+0100
TZNAME:BST
DTSTART:20260329T010000
END:DAYLIGHT
BEGIN:STANDARD
TZOFFSETFROM:+0100
TZOFFSETTO:+0000
TZNAME:GMT
DTSTART:20261025T010000
END:STANDARD
BEGIN:DAYLIGHT
TZOFFSETFROM:+0000
TZOFFSETTO:+0100
TZNAME:BST
DTSTART:20270328T010000
END:DAYLIGHT
BEGIN:STANDARD
TZOFFSETFROM:+0100
TZOFFSETTO:+0000
TZNAME:GMT
DTSTART:20271031T010000
END:STANDARD
END:VTIMEZONE
BEGIN:VEVENT
DTSTART;TZID=Europe/London:20260425T193000
DTEND;TZID=Europe/London:20260516T193000
DTSTAMP:20260424T150135
CREATED:20260330T142727Z
LAST-MODIFIED:20260330T142727Z
UID:10000239-1777145400-1778959800@vtavi-b9grp.projectbeta.co.uk
SUMMARY:Tavi Music & Arts Festival
DESCRIPTION:A musical feast of choral and instrumental music in the beautiful market town of Tavistock.
URL:https://vtavi-b9grp.projectbeta.co.uk/event/tavi-music-arts-festival/
LOCATION:Tavistock Town Centre
ATTACH;FMTTYPE=image/png:https://vtavi-b9grp.projectbeta.co.uk/wp-content/uploads/2026/03/Tavi-Festival.png
END:VEVENT
BEGIN:VEVENT
DTSTART;TZID=Europe/London:20260502T100000
DTEND;TZID=Europe/London:20260502T160000
DTSTAMP:20260424T150135
CREATED:20260401T131030Z
LAST-MODIFIED:20260401T131030Z
UID:10000091-1777716000-1777737600@vtavi-b9grp.projectbeta.co.uk
SUMMARY:Tavistock Arts Market
DESCRIPTION:Tavistock Arts Market is a vibrant monthly market featuring a variety of talented local artists\, designers and makers.
URL:https://vtavi-b9grp.projectbeta.co.uk/event/tavistock-arts-market/2026-05-02/
LOCATION:Butchers’ Hall
ATTACH;FMTTYPE=image/jpeg:https://vtavi-b9grp.projectbeta.co.uk/wp-content/uploads/2026/03/TAM_2.jpg
END:VEVENT
BEGIN:VEVENT
DTSTART;TZID=Europe/London:20260509T090000
DTEND;TZID=Europe/London:20260509T140000
DTSTAMP:20260424T150135
CREATED:20260330T142729Z
LAST-MODIFIED:20260330T142729Z
UID:10000100-1778317200-1778335200@vtavi-b9grp.projectbeta.co.uk
SUMMARY:Tavistock Farmers' Market
DESCRIPTION:Come along and enjoy the best farmers’ market in the South West\, featuring a host of local suppliers.
URL:https://vtavi-b9grp.projectbeta.co.uk/event/tavistock-farmers-market-2/2026-05-09/
LOCATION:Bedford Square\, Tavistock\, PL190AE
ATTACH;FMTTYPE=image/png:https://vtavi-b9grp.projectbeta.co.uk/wp-content/uploads/2026/03/Whats-On-10.png
END:VEVENT
BEGIN:VEVENT
DTSTART;TZID=Europe/London:20260516T090000
DTEND;TZID=Europe/London:20260516T160000
DTSTAMP:20260424T150135
CREATED:20260330T142727Z
LAST-MODIFIED:20260330T142727Z
UID:10000240-1778922000-1778947200@vtavi-b9grp.projectbeta.co.uk
SUMMARY:Butcher's Hall Arts & Crafts Market
DESCRIPTION:Come along for this market featuring local artists and crafts.\nOpen 9am to 4pm each day\, and free entry
URL:https://vtavi-b9grp.projectbeta.co.uk/event/butchers-hall-arts-crafts-market/
LOCATION:Butchers’ Hall
ATTACH;FMTTYPE=image/png:https://vtavi-b9grp.projectbeta.co.uk/wp-content/uploads/2026/03/Whats-On-12.png
END:VEVENT
BEGIN:VEVENT
DTSTART;TZID=Europe/London:20260517T090000
DTEND;TZID=Europe/London:20260517T150000
DTSTAMP:20260424T150135
CREATED:20260330T142727Z
LAST-MODIFIED:20260330T142727Z
UID:10000241-1779008400-1779030000@vtavi-b9grp.projectbeta.co.uk
SUMMARY:Eat:Tavistock
DESCRIPTION:eat:Festivals are grown from the land around us. They bring the very best West Country food & drink producers and artisans together at festivals in town centres across Somerset\, Devon\, Dorset\, Cornwall\, South Glos & Bristol.
URL:https://vtavi-b9grp.projectbeta.co.uk/event/eattavistock/
LOCATION:Bedford Square\, Tavistock\, PL190AE
ATTACH;FMTTYPE=image/png:https://vtavi-b9grp.projectbeta.co.uk/wp-content/uploads/2026/03/Eat-Tavistock.png
END:VEVENT
BEGIN:VEVENT
DTSTART;TZID=Europe/London:20260523T090000
DTEND;TZID=Europe/London:20260523T140000
DTSTAMP:20260424T150135
CREATED:20260330T142728Z
LAST-MODIFIED:20260330T142728Z
UID:10000160-1779526800-1779544800@vtavi-b9grp.projectbeta.co.uk
SUMMARY:Tavistock Farmers' Market
DESCRIPTION:Come along and enjoy the best farmers’ market in the South West\, featuring a host of local suppliers.
URL:https://vtavi-b9grp.projectbeta.co.uk/event/tavistock-farmers-market/2026-05-23/
LOCATION:Bedford Square\, Tavistock\, PL190AE
ATTACH;FMTTYPE=image/png:https://vtavi-b9grp.projectbeta.co.uk/wp-content/uploads/2026/03/Whats-On-10-1.png
END:VEVENT
BEGIN:VEVENT
DTSTART;TZID=Europe/London:20260523T100000
DTEND;TZID=Europe/London:20260523T160000
DTSTAMP:20260424T150135
CREATED:20260330T142727Z
LAST-MODIFIED:20260330T142727Z
UID:10000242-1779530400-1779552000@vtavi-b9grp.projectbeta.co.uk
SUMMARY:Miss Ivy's Love Local Market
DESCRIPTION:Love Local\, Support Local\, and Feel Good!  LOVE LOCAL Gift Markets are back for 2026! That’s right\, we’ll be waiting for you in Tavistock’s Butchers Hall with a truly stunning selection of artisan\, gift\, and food & drink traders.  Free Entry.
URL:https://vtavi-b9grp.projectbeta.co.uk/event/miss-ivys-love-local-market/
LOCATION:Butchers’ Hall
ATTACH;FMTTYPE=image/jpeg:https://vtavi-b9grp.projectbeta.co.uk/wp-content/uploads/2026/03/Love-Local-gift-market-temp-graphic-6.jpg
END:VEVENT
BEGIN:VEVENT
DTSTART;TZID=Europe/London:20260523T170000
DTEND;TZID=Europe/London:20260523T200000
DTSTAMP:20260424T150135
CREATED:20260330T142727Z
LAST-MODIFIED:20260330T142727Z
UID:10000224-1779555600-1779566400@vtavi-b9grp.projectbeta.co.uk
SUMMARY:Tavistock Street Food Festival
DESCRIPTION:We’re bringing a host of street foods and drinks\, many from local producers right here in the Westcountry for a delectable evening of food\, drink and music in Tavistock’s historic and very beautiful Bedford Square.\nThe perfect chance to meet friends and family for a scrummy Saturday evening.
URL:https://vtavi-b9grp.projectbeta.co.uk/event/tavistock-street-food-festival/2026-05-23/
LOCATION:Bedford Square\, Tavistock\, PL190AE
ATTACH;FMTTYPE=image/png:https://vtavi-b9grp.projectbeta.co.uk/wp-content/uploads/2026/03/Street-Food-1.png
END:VEVENT
BEGIN:VEVENT
DTSTART;TZID=Europe/London:20260524T090000
DTEND;TZID=Europe/London:20260525T170000
DTSTAMP:20260424T150135
CREATED:20260330T142726Z
LAST-MODIFIED:20260330T142726Z
UID:10000244-1779613200-1779728400@vtavi-b9grp.projectbeta.co.uk
SUMMARY:Tavistock Country Garden Show
DESCRIPTION:Tavistock Country Garden Show hosts an array of all things green\, with a wonderful display of show gardens\, nurseries\, community stalls and much much more…… Opening times are 10am-4pm with FREE ADMISSION.
URL:https://vtavi-b9grp.projectbeta.co.uk/event/tavistock-country-garden-show/
LOCATION:Pannier Market\, Tavistock\, PL19 0AL
ATTACH;FMTTYPE=image/jpeg:https://vtavi-b9grp.projectbeta.co.uk/wp-content/uploads/2026/03/Country-Garden-Festival.jpg
END:VEVENT
BEGIN:VEVENT
DTSTART;TZID=Europe/London:20260524T090000
DTEND;TZID=Europe/London:20260525T170000
DTSTAMP:20260424T150135
CREATED:20260330T142727Z
LAST-MODIFIED:20260330T142727Z
UID:10000243-1779613200-1779728400@vtavi-b9grp.projectbeta.co.uk
SUMMARY:Nature Inspired Market
DESCRIPTION:The last Bank Holiday in May is a great time to come along to the Nature Inspired Market in Butchers Hall\, running alongside the Tavistock Country Garden Show.\nOpen 9am to 5pm each day\, free entry
URL:https://vtavi-b9grp.projectbeta.co.uk/event/nature-inspired-market/
LOCATION:Butchers’ Hall
ATTACH;FMTTYPE=image/png:https://vtavi-b9grp.projectbeta.co.uk/wp-content/uploads/2026/03/Butchers-Hall-1.png
END:VEVENT
BEGIN:VEVENT
DTSTART;TZID=Europe/London:20260531T100000
DTEND;TZID=Europe/London:20260531T170000
DTSTAMP:20260424T150135
CREATED:20260330T142726Z
LAST-MODIFIED:20260330T142726Z
UID:10000245-1780221600-1780246800@vtavi-b9grp.projectbeta.co.uk
SUMMARY:Tavistock Steam Fair
DESCRIPTION:Roll up\, roll up\, for the Tavistock Steam & Vintage Fair\, held in the Bedford and Wharf Car Parks\, Tavistock.  Offering steam-hauled trailer rides around town\, running tractors\, classic cars plus local crafts\, locally produced food and drink\, and live music. Entry is just £2 per person.
URL:https://vtavi-b9grp.projectbeta.co.uk/event/tavistock-steam-fair/
LOCATION:Bedford Car Park
ATTACH;FMTTYPE=image/jpeg:https://vtavi-b9grp.projectbeta.co.uk/wp-content/uploads/2026/03/Robey-Trust-v2.jpg
END:VEVENT
END:VCALENDAR