BEGIN:VCALENDAR
VERSION:2.0
PRODID:-//Visit Tavistock - ECPv6.15.17.1//NONSGML v1.0//EN
CALSCALE:GREGORIAN
METHOD:PUBLISH
X-WR-CALNAME:Visit Tavistock
X-ORIGINAL-URL:https://vtavi-b9grp.projectbeta.co.uk
X-WR-CALDESC:Events for Visit Tavistock
REFRESH-INTERVAL;VALUE=DURATION:PT1H
X-Robots-Tag:noindex
X-PUBLISHED-TTL:PT1H
BEGIN:VTIMEZONE
TZID:Europe/London
BEGIN:DAYLIGHT
TZOFFSETFROM:+0000
TZOFFSETTO:+0100
TZNAME:BST
DTSTART:20240331T010000
END:DAYLIGHT
BEGIN:STANDARD
TZOFFSETFROM:+0100
TZOFFSETTO:+0000
TZNAME:GMT
DTSTART:20241027T010000
END:STANDARD
BEGIN:DAYLIGHT
TZOFFSETFROM:+0000
TZOFFSETTO:+0100
TZNAME:BST
DTSTART:20250330T010000
END:DAYLIGHT
BEGIN:STANDARD
TZOFFSETFROM:+0100
TZOFFSETTO:+0000
TZNAME:GMT
DTSTART:20251026T010000
END:STANDARD
BEGIN:DAYLIGHT
TZOFFSETFROM:+0000
TZOFFSETTO:+0100
TZNAME:BST
DTSTART:20260329T010000
END:DAYLIGHT
BEGIN:STANDARD
TZOFFSETFROM:+0100
TZOFFSETTO:+0000
TZNAME:GMT
DTSTART:20261025T010000
END:STANDARD
END:VTIMEZONE
BEGIN:VEVENT
DTSTART;TZID=Europe/London:20251002T080000
DTEND;TZID=Europe/London:20251002T170000
DTSTAMP:20260424T094709
CREATED:20250916T103121Z
LAST-MODIFIED:20250916T103525Z
UID:10000007-1759392000-1759424400@vtavi-b9grp.projectbeta.co.uk
SUMMARY:Steak Night at The Bedford
DESCRIPTION:Join us as we celebrate the great British steak and all the classic trimmings\, with our Steak Night at The Bedford\, featuring exceptional steaks showcasing ruby red beef from Devon’s Matford Home Farm (and a tempting vegan alternative too). \nChoose from our perfect selection of sauces to complement your steak\, and appealing side dishes to really make a meal of it.
URL:https://vtavi-b9grp.projectbeta.co.uk/event/steak-night-at-the-bedford/2025-10-02/
LOCATION:Bedford Square\, Tavistock\, PL190AE
ATTACH;FMTTYPE=image/jpeg:https://vtavi-b9grp.projectbeta.co.uk/wp-content/uploads/2025/09/slmfqqptda.jpg
END:VEVENT
BEGIN:VEVENT
DTSTART;TZID=Europe/London:20250926T203000
DTEND;TZID=Europe/London:20250926T220000
DTSTAMP:20260424T094709
CREATED:20250916T115736Z
LAST-MODIFIED:20250916T115851Z
UID:10000060-1758918600-1758924000@vtavi-b9grp.projectbeta.co.uk
SUMMARY:Coda @ The Wharf
DESCRIPTION:CODA – a Tribute to Led Zeppelin are Europe’s most authentic and exciting Led Zeppelin tribute band\, replicating the power\, excitement and magic of a Led Zeppelin show like no other. They are the only proper four-piece Zep tribute band in Europe that looks and sounds as close to the real thing as possible\, featuring authentic-looking and sounding instruments as well as incredible\, hand- made replica costumes that will take you back to the time when the Gods of Rock ruled the world!
URL:https://vtavi-b9grp.projectbeta.co.uk/event/coda-the-wharf/
LOCATION:The Wharf\, Canal Road\, Tavistock\, PL18 8AT
ATTACH;FMTTYPE=image/jpeg:https://vtavi-b9grp.projectbeta.co.uk/wp-content/uploads/2025/09/2d46f81740fc5a1fc23a90e731c641ff.jpg
END:VEVENT
BEGIN:VEVENT
DTSTART;TZID=Europe/London:20250925T080000
DTEND;TZID=Europe/London:20250925T170000
DTSTAMP:20260424T094709
CREATED:20250916T103121Z
LAST-MODIFIED:20250916T103525Z
UID:10000006-1758787200-1758819600@vtavi-b9grp.projectbeta.co.uk
SUMMARY:Steak Night at The Bedford
DESCRIPTION:Join us as we celebrate the great British steak and all the classic trimmings\, with our Steak Night at The Bedford\, featuring exceptional steaks showcasing ruby red beef from Devon’s Matford Home Farm (and a tempting vegan alternative too). \nChoose from our perfect selection of sauces to complement your steak\, and appealing side dishes to really make a meal of it.
URL:https://vtavi-b9grp.projectbeta.co.uk/event/steak-night-at-the-bedford/2025-09-25/
LOCATION:Bedford Square\, Tavistock\, PL190AE
ATTACH;FMTTYPE=image/jpeg:https://vtavi-b9grp.projectbeta.co.uk/wp-content/uploads/2025/09/slmfqqptda.jpg
END:VEVENT
BEGIN:VEVENT
DTSTART;TZID=Europe/London:20250918T080000
DTEND;TZID=Europe/London:20250918T170000
DTSTAMP:20260424T094709
CREATED:20250916T103121Z
LAST-MODIFIED:20250916T103525Z
UID:10000005-1758182400-1758214800@vtavi-b9grp.projectbeta.co.uk
SUMMARY:Steak Night at The Bedford
DESCRIPTION:Join us as we celebrate the great British steak and all the classic trimmings\, with our Steak Night at The Bedford\, featuring exceptional steaks showcasing ruby red beef from Devon’s Matford Home Farm (and a tempting vegan alternative too). \nChoose from our perfect selection of sauces to complement your steak\, and appealing side dishes to really make a meal of it.
URL:https://vtavi-b9grp.projectbeta.co.uk/event/steak-night-at-the-bedford/2025-09-18/
LOCATION:Bedford Square\, Tavistock\, PL190AE
ATTACH;FMTTYPE=image/jpeg:https://vtavi-b9grp.projectbeta.co.uk/wp-content/uploads/2025/09/slmfqqptda.jpg
END:VEVENT
END:VCALENDAR