BEGIN:VCALENDAR
VERSION:2.0
PRODID:-//Visit Tavistock - ECPv6.15.17.1//NONSGML v1.0//EN
CALSCALE:GREGORIAN
METHOD:PUBLISH
X-WR-CALNAME:Visit Tavistock
X-ORIGINAL-URL:https://vtavi-b9grp.projectbeta.co.uk
X-WR-CALDESC:Events for Visit Tavistock
REFRESH-INTERVAL;VALUE=DURATION:PT1H
X-Robots-Tag:noindex
X-PUBLISHED-TTL:PT1H
BEGIN:VTIMEZONE
TZID:Europe/London
BEGIN:DAYLIGHT
TZOFFSETFROM:+0000
TZOFFSETTO:+0100
TZNAME:BST
DTSTART:20270328T010000
END:DAYLIGHT
BEGIN:STANDARD
TZOFFSETFROM:+0100
TZOFFSETTO:+0000
TZNAME:GMT
DTSTART:20271031T010000
END:STANDARD
BEGIN:DAYLIGHT
TZOFFSETFROM:+0000
TZOFFSETTO:+0100
TZNAME:BST
DTSTART:20280326T010000
END:DAYLIGHT
BEGIN:STANDARD
TZOFFSETFROM:+0100
TZOFFSETTO:+0000
TZNAME:GMT
DTSTART:20281029T010000
END:STANDARD
BEGIN:DAYLIGHT
TZOFFSETFROM:+0000
TZOFFSETTO:+0100
TZNAME:BST
DTSTART:20290325T010000
END:DAYLIGHT
BEGIN:STANDARD
TZOFFSETFROM:+0100
TZOFFSETTO:+0000
TZNAME:GMT
DTSTART:20291028T010000
END:STANDARD
BEGIN:DAYLIGHT
TZOFFSETFROM:+0000
TZOFFSETTO:+0100
TZNAME:BST
DTSTART:20300331T010000
END:DAYLIGHT
BEGIN:STANDARD
TZOFFSETFROM:+0100
TZOFFSETTO:+0000
TZNAME:GMT
DTSTART:20301027T010000
END:STANDARD
END:VTIMEZONE
BEGIN:VEVENT
DTSTART;TZID=Europe/London:20280624T090000
DTEND;TZID=Europe/London:20280624T140000
DTSTAMP:20260423T000239
CREATED:20260330T142728Z
LAST-MODIFIED:20260330T142728Z
UID:10000185-1845450000-1845468000@vtavi-b9grp.projectbeta.co.uk
SUMMARY:Tavistock Farmers' Market
DESCRIPTION:Come along and enjoy the best farmers’ market in the South West\, featuring a host of local suppliers.
URL:https://vtavi-b9grp.projectbeta.co.uk/event/tavistock-farmers-market/2028-06-24/
LOCATION:Bedford Square\, Tavistock\, PL190AE
ATTACH;FMTTYPE=image/png:https://vtavi-b9grp.projectbeta.co.uk/wp-content/uploads/2026/03/Whats-On-10-1.png
END:VEVENT
BEGIN:VEVENT
DTSTART;TZID=Europe/London:20280708T090000
DTEND;TZID=Europe/London:20280708T140000
DTSTAMP:20260423T000239
CREATED:20260330T142729Z
LAST-MODIFIED:20260330T142729Z
UID:10000126-1846659600-1846677600@vtavi-b9grp.projectbeta.co.uk
SUMMARY:Tavistock Farmers' Market
DESCRIPTION:Come along and enjoy the best farmers’ market in the South West\, featuring a host of local suppliers.
URL:https://vtavi-b9grp.projectbeta.co.uk/event/tavistock-farmers-market-2/2028-07-08/
LOCATION:Bedford Square\, Tavistock\, PL190AE
ATTACH;FMTTYPE=image/png:https://vtavi-b9grp.projectbeta.co.uk/wp-content/uploads/2026/03/Whats-On-10.png
END:VEVENT
BEGIN:VEVENT
DTSTART;TZID=Europe/London:20280722T090000
DTEND;TZID=Europe/London:20280722T140000
DTSTAMP:20260423T000239
CREATED:20260330T142728Z
LAST-MODIFIED:20260330T142728Z
UID:10000186-1847869200-1847887200@vtavi-b9grp.projectbeta.co.uk
SUMMARY:Tavistock Farmers' Market
DESCRIPTION:Come along and enjoy the best farmers’ market in the South West\, featuring a host of local suppliers.
URL:https://vtavi-b9grp.projectbeta.co.uk/event/tavistock-farmers-market/2028-07-22/
LOCATION:Bedford Square\, Tavistock\, PL190AE
ATTACH;FMTTYPE=image/png:https://vtavi-b9grp.projectbeta.co.uk/wp-content/uploads/2026/03/Whats-On-10-1.png
END:VEVENT
BEGIN:VEVENT
DTSTART;TZID=Europe/London:20280812T090000
DTEND;TZID=Europe/London:20280812T140000
DTSTAMP:20260423T000239
CREATED:20260330T142729Z
LAST-MODIFIED:20260330T142729Z
UID:10000127-1849683600-1849701600@vtavi-b9grp.projectbeta.co.uk
SUMMARY:Tavistock Farmers' Market
DESCRIPTION:Come along and enjoy the best farmers’ market in the South West\, featuring a host of local suppliers.
URL:https://vtavi-b9grp.projectbeta.co.uk/event/tavistock-farmers-market-2/2028-08-12/
LOCATION:Bedford Square\, Tavistock\, PL190AE
ATTACH;FMTTYPE=image/png:https://vtavi-b9grp.projectbeta.co.uk/wp-content/uploads/2026/03/Whats-On-10.png
END:VEVENT
BEGIN:VEVENT
DTSTART;TZID=Europe/London:20280826T090000
DTEND;TZID=Europe/London:20280826T140000
DTSTAMP:20260423T000239
CREATED:20260330T142728Z
LAST-MODIFIED:20260330T142728Z
UID:10000187-1850893200-1850911200@vtavi-b9grp.projectbeta.co.uk
SUMMARY:Tavistock Farmers' Market
DESCRIPTION:Come along and enjoy the best farmers’ market in the South West\, featuring a host of local suppliers.
URL:https://vtavi-b9grp.projectbeta.co.uk/event/tavistock-farmers-market/2028-08-26/
LOCATION:Bedford Square\, Tavistock\, PL190AE
ATTACH;FMTTYPE=image/png:https://vtavi-b9grp.projectbeta.co.uk/wp-content/uploads/2026/03/Whats-On-10-1.png
END:VEVENT
BEGIN:VEVENT
DTSTART;TZID=Europe/London:20280909T090000
DTEND;TZID=Europe/London:20280909T140000
DTSTAMP:20260423T000239
CREATED:20260330T142729Z
LAST-MODIFIED:20260330T142729Z
UID:10000128-1852102800-1852120800@vtavi-b9grp.projectbeta.co.uk
SUMMARY:Tavistock Farmers' Market
DESCRIPTION:Come along and enjoy the best farmers’ market in the South West\, featuring a host of local suppliers.
URL:https://vtavi-b9grp.projectbeta.co.uk/event/tavistock-farmers-market-2/2028-09-09/
LOCATION:Bedford Square\, Tavistock\, PL190AE
ATTACH;FMTTYPE=image/png:https://vtavi-b9grp.projectbeta.co.uk/wp-content/uploads/2026/03/Whats-On-10.png
END:VEVENT
BEGIN:VEVENT
DTSTART;TZID=Europe/London:20280923T090000
DTEND;TZID=Europe/London:20280923T140000
DTSTAMP:20260423T000239
CREATED:20260330T142728Z
LAST-MODIFIED:20260330T142728Z
UID:10000188-1853312400-1853330400@vtavi-b9grp.projectbeta.co.uk
SUMMARY:Tavistock Farmers' Market
DESCRIPTION:Come along and enjoy the best farmers’ market in the South West\, featuring a host of local suppliers.
URL:https://vtavi-b9grp.projectbeta.co.uk/event/tavistock-farmers-market/2028-09-23/
LOCATION:Bedford Square\, Tavistock\, PL190AE
ATTACH;FMTTYPE=image/png:https://vtavi-b9grp.projectbeta.co.uk/wp-content/uploads/2026/03/Whats-On-10-1.png
END:VEVENT
BEGIN:VEVENT
DTSTART;TZID=Europe/London:20281014T090000
DTEND;TZID=Europe/London:20281014T140000
DTSTAMP:20260423T000239
CREATED:20260330T142729Z
LAST-MODIFIED:20260330T142729Z
UID:10000129-1855126800-1855144800@vtavi-b9grp.projectbeta.co.uk
SUMMARY:Tavistock Farmers' Market
DESCRIPTION:Come along and enjoy the best farmers’ market in the South West\, featuring a host of local suppliers.
URL:https://vtavi-b9grp.projectbeta.co.uk/event/tavistock-farmers-market-2/2028-10-14/
LOCATION:Bedford Square\, Tavistock\, PL190AE
ATTACH;FMTTYPE=image/png:https://vtavi-b9grp.projectbeta.co.uk/wp-content/uploads/2026/03/Whats-On-10.png
END:VEVENT
BEGIN:VEVENT
DTSTART;TZID=Europe/London:20281028T090000
DTEND;TZID=Europe/London:20281028T140000
DTSTAMP:20260423T000239
CREATED:20260330T142728Z
LAST-MODIFIED:20260330T142728Z
UID:10000189-1856336400-1856354400@vtavi-b9grp.projectbeta.co.uk
SUMMARY:Tavistock Farmers' Market
DESCRIPTION:Come along and enjoy the best farmers’ market in the South West\, featuring a host of local suppliers.
URL:https://vtavi-b9grp.projectbeta.co.uk/event/tavistock-farmers-market/2028-10-28/
LOCATION:Bedford Square\, Tavistock\, PL190AE
ATTACH;FMTTYPE=image/png:https://vtavi-b9grp.projectbeta.co.uk/wp-content/uploads/2026/03/Whats-On-10-1.png
END:VEVENT
BEGIN:VEVENT
DTSTART;TZID=Europe/London:20281111T090000
DTEND;TZID=Europe/London:20281111T140000
DTSTAMP:20260423T000239
CREATED:20260330T142729Z
LAST-MODIFIED:20260330T142729Z
UID:10000130-1857546000-1857564000@vtavi-b9grp.projectbeta.co.uk
SUMMARY:Tavistock Farmers' Market
DESCRIPTION:Come along and enjoy the best farmers’ market in the South West\, featuring a host of local suppliers.
URL:https://vtavi-b9grp.projectbeta.co.uk/event/tavistock-farmers-market-2/2028-11-11/
LOCATION:Bedford Square\, Tavistock\, PL190AE
ATTACH;FMTTYPE=image/png:https://vtavi-b9grp.projectbeta.co.uk/wp-content/uploads/2026/03/Whats-On-10.png
END:VEVENT
BEGIN:VEVENT
DTSTART;TZID=Europe/London:20281125T090000
DTEND;TZID=Europe/London:20281125T140000
DTSTAMP:20260423T000239
CREATED:20260330T142728Z
LAST-MODIFIED:20260330T142728Z
UID:10000190-1858755600-1858773600@vtavi-b9grp.projectbeta.co.uk
SUMMARY:Tavistock Farmers' Market
DESCRIPTION:Come along and enjoy the best farmers’ market in the South West\, featuring a host of local suppliers.
URL:https://vtavi-b9grp.projectbeta.co.uk/event/tavistock-farmers-market/2028-11-25/
LOCATION:Bedford Square\, Tavistock\, PL190AE
ATTACH;FMTTYPE=image/png:https://vtavi-b9grp.projectbeta.co.uk/wp-content/uploads/2026/03/Whats-On-10-1.png
END:VEVENT
BEGIN:VEVENT
DTSTART;TZID=Europe/London:20281209T090000
DTEND;TZID=Europe/London:20281209T140000
DTSTAMP:20260423T000239
CREATED:20260330T142729Z
LAST-MODIFIED:20260330T142729Z
UID:10000131-1859965200-1859983200@vtavi-b9grp.projectbeta.co.uk
SUMMARY:Tavistock Farmers' Market
DESCRIPTION:Come along and enjoy the best farmers’ market in the South West\, featuring a host of local suppliers.
URL:https://vtavi-b9grp.projectbeta.co.uk/event/tavistock-farmers-market-2/2028-12-09/
LOCATION:Bedford Square\, Tavistock\, PL190AE
ATTACH;FMTTYPE=image/png:https://vtavi-b9grp.projectbeta.co.uk/wp-content/uploads/2026/03/Whats-On-10.png
END:VEVENT
BEGIN:VEVENT
DTSTART;TZID=Europe/London:20281223T090000
DTEND;TZID=Europe/London:20281223T140000
DTSTAMP:20260423T000239
CREATED:20260330T142728Z
LAST-MODIFIED:20260330T142728Z
UID:10000191-1861174800-1861192800@vtavi-b9grp.projectbeta.co.uk
SUMMARY:Tavistock Farmers' Market
DESCRIPTION:Come along and enjoy the best farmers’ market in the South West\, featuring a host of local suppliers.
URL:https://vtavi-b9grp.projectbeta.co.uk/event/tavistock-farmers-market/2028-12-23/
LOCATION:Bedford Square\, Tavistock\, PL190AE
ATTACH;FMTTYPE=image/png:https://vtavi-b9grp.projectbeta.co.uk/wp-content/uploads/2026/03/Whats-On-10-1.png
END:VEVENT
BEGIN:VEVENT
DTSTART;TZID=Europe/London:20290113T090000
DTEND;TZID=Europe/London:20290113T140000
DTSTAMP:20260423T000239
CREATED:20260330T142729Z
LAST-MODIFIED:20260330T142729Z
UID:10000132-1862989200-1863007200@vtavi-b9grp.projectbeta.co.uk
SUMMARY:Tavistock Farmers' Market
DESCRIPTION:Come along and enjoy the best farmers’ market in the South West\, featuring a host of local suppliers.
URL:https://vtavi-b9grp.projectbeta.co.uk/event/tavistock-farmers-market-2/2029-01-13/
LOCATION:Bedford Square\, Tavistock\, PL190AE
ATTACH;FMTTYPE=image/png:https://vtavi-b9grp.projectbeta.co.uk/wp-content/uploads/2026/03/Whats-On-10.png
END:VEVENT
BEGIN:VEVENT
DTSTART;TZID=Europe/London:20290127T090000
DTEND;TZID=Europe/London:20290127T140000
DTSTAMP:20260423T000239
CREATED:20260330T142728Z
LAST-MODIFIED:20260330T142728Z
UID:10000192-1864198800-1864216800@vtavi-b9grp.projectbeta.co.uk
SUMMARY:Tavistock Farmers' Market
DESCRIPTION:Come along and enjoy the best farmers’ market in the South West\, featuring a host of local suppliers.
URL:https://vtavi-b9grp.projectbeta.co.uk/event/tavistock-farmers-market/2029-01-27/
LOCATION:Bedford Square\, Tavistock\, PL190AE
ATTACH;FMTTYPE=image/png:https://vtavi-b9grp.projectbeta.co.uk/wp-content/uploads/2026/03/Whats-On-10-1.png
END:VEVENT
BEGIN:VEVENT
DTSTART;TZID=Europe/London:20290210T090000
DTEND;TZID=Europe/London:20290210T140000
DTSTAMP:20260423T000239
CREATED:20260330T142729Z
LAST-MODIFIED:20260330T142729Z
UID:10000133-1865408400-1865426400@vtavi-b9grp.projectbeta.co.uk
SUMMARY:Tavistock Farmers' Market
DESCRIPTION:Come along and enjoy the best farmers’ market in the South West\, featuring a host of local suppliers.
URL:https://vtavi-b9grp.projectbeta.co.uk/event/tavistock-farmers-market-2/2029-02-10/
LOCATION:Bedford Square\, Tavistock\, PL190AE
ATTACH;FMTTYPE=image/png:https://vtavi-b9grp.projectbeta.co.uk/wp-content/uploads/2026/03/Whats-On-10.png
END:VEVENT
BEGIN:VEVENT
DTSTART;TZID=Europe/London:20290224T090000
DTEND;TZID=Europe/London:20290224T140000
DTSTAMP:20260423T000239
CREATED:20260330T142728Z
LAST-MODIFIED:20260330T142728Z
UID:10000193-1866618000-1866636000@vtavi-b9grp.projectbeta.co.uk
SUMMARY:Tavistock Farmers' Market
DESCRIPTION:Come along and enjoy the best farmers’ market in the South West\, featuring a host of local suppliers.
URL:https://vtavi-b9grp.projectbeta.co.uk/event/tavistock-farmers-market/2029-02-24/
LOCATION:Bedford Square\, Tavistock\, PL190AE
ATTACH;FMTTYPE=image/png:https://vtavi-b9grp.projectbeta.co.uk/wp-content/uploads/2026/03/Whats-On-10-1.png
END:VEVENT
BEGIN:VEVENT
DTSTART;TZID=Europe/London:20290310T090000
DTEND;TZID=Europe/London:20290310T140000
DTSTAMP:20260423T000239
CREATED:20260330T142729Z
LAST-MODIFIED:20260330T142729Z
UID:10000134-1867827600-1867845600@vtavi-b9grp.projectbeta.co.uk
SUMMARY:Tavistock Farmers' Market
DESCRIPTION:Come along and enjoy the best farmers’ market in the South West\, featuring a host of local suppliers.
URL:https://vtavi-b9grp.projectbeta.co.uk/event/tavistock-farmers-market-2/2029-03-10/
LOCATION:Bedford Square\, Tavistock\, PL190AE
ATTACH;FMTTYPE=image/png:https://vtavi-b9grp.projectbeta.co.uk/wp-content/uploads/2026/03/Whats-On-10.png
END:VEVENT
BEGIN:VEVENT
DTSTART;TZID=Europe/London:20290324T090000
DTEND;TZID=Europe/London:20290324T140000
DTSTAMP:20260423T000239
CREATED:20260330T142728Z
LAST-MODIFIED:20260330T142728Z
UID:10000194-1869037200-1869055200@vtavi-b9grp.projectbeta.co.uk
SUMMARY:Tavistock Farmers' Market
DESCRIPTION:Come along and enjoy the best farmers’ market in the South West\, featuring a host of local suppliers.
URL:https://vtavi-b9grp.projectbeta.co.uk/event/tavistock-farmers-market/2029-03-24/
LOCATION:Bedford Square\, Tavistock\, PL190AE
ATTACH;FMTTYPE=image/png:https://vtavi-b9grp.projectbeta.co.uk/wp-content/uploads/2026/03/Whats-On-10-1.png
END:VEVENT
BEGIN:VEVENT
DTSTART;TZID=Europe/London:20290414T090000
DTEND;TZID=Europe/London:20290414T140000
DTSTAMP:20260423T000239
CREATED:20260330T142729Z
LAST-MODIFIED:20260330T142729Z
UID:10000135-1870851600-1870869600@vtavi-b9grp.projectbeta.co.uk
SUMMARY:Tavistock Farmers' Market
DESCRIPTION:Come along and enjoy the best farmers’ market in the South West\, featuring a host of local suppliers.
URL:https://vtavi-b9grp.projectbeta.co.uk/event/tavistock-farmers-market-2/2029-04-14/
LOCATION:Bedford Square\, Tavistock\, PL190AE
ATTACH;FMTTYPE=image/png:https://vtavi-b9grp.projectbeta.co.uk/wp-content/uploads/2026/03/Whats-On-10.png
END:VEVENT
BEGIN:VEVENT
DTSTART;TZID=Europe/London:20290428T090000
DTEND;TZID=Europe/London:20290428T140000
DTSTAMP:20260423T000239
CREATED:20260330T142728Z
LAST-MODIFIED:20260330T142728Z
UID:10000195-1872061200-1872079200@vtavi-b9grp.projectbeta.co.uk
SUMMARY:Tavistock Farmers' Market
DESCRIPTION:Come along and enjoy the best farmers’ market in the South West\, featuring a host of local suppliers.
URL:https://vtavi-b9grp.projectbeta.co.uk/event/tavistock-farmers-market/2029-04-28/
LOCATION:Bedford Square\, Tavistock\, PL190AE
ATTACH;FMTTYPE=image/png:https://vtavi-b9grp.projectbeta.co.uk/wp-content/uploads/2026/03/Whats-On-10-1.png
END:VEVENT
BEGIN:VEVENT
DTSTART;TZID=Europe/London:20290512T090000
DTEND;TZID=Europe/London:20290512T140000
DTSTAMP:20260423T000239
CREATED:20260330T142729Z
LAST-MODIFIED:20260330T142729Z
UID:10000136-1873270800-1873288800@vtavi-b9grp.projectbeta.co.uk
SUMMARY:Tavistock Farmers' Market
DESCRIPTION:Come along and enjoy the best farmers’ market in the South West\, featuring a host of local suppliers.
URL:https://vtavi-b9grp.projectbeta.co.uk/event/tavistock-farmers-market-2/2029-05-12/
LOCATION:Bedford Square\, Tavistock\, PL190AE
ATTACH;FMTTYPE=image/png:https://vtavi-b9grp.projectbeta.co.uk/wp-content/uploads/2026/03/Whats-On-10.png
END:VEVENT
BEGIN:VEVENT
DTSTART;TZID=Europe/London:20290526T090000
DTEND;TZID=Europe/London:20290526T140000
DTSTAMP:20260423T000239
CREATED:20260330T142728Z
LAST-MODIFIED:20260330T142728Z
UID:10000196-1874480400-1874498400@vtavi-b9grp.projectbeta.co.uk
SUMMARY:Tavistock Farmers' Market
DESCRIPTION:Come along and enjoy the best farmers’ market in the South West\, featuring a host of local suppliers.
URL:https://vtavi-b9grp.projectbeta.co.uk/event/tavistock-farmers-market/2029-05-26/
LOCATION:Bedford Square\, Tavistock\, PL190AE
ATTACH;FMTTYPE=image/png:https://vtavi-b9grp.projectbeta.co.uk/wp-content/uploads/2026/03/Whats-On-10-1.png
END:VEVENT
BEGIN:VEVENT
DTSTART;TZID=Europe/London:20290609T090000
DTEND;TZID=Europe/London:20290609T140000
DTSTAMP:20260423T000239
CREATED:20260330T142729Z
LAST-MODIFIED:20260330T142729Z
UID:10000137-1875690000-1875708000@vtavi-b9grp.projectbeta.co.uk
SUMMARY:Tavistock Farmers' Market
DESCRIPTION:Come along and enjoy the best farmers’ market in the South West\, featuring a host of local suppliers.
URL:https://vtavi-b9grp.projectbeta.co.uk/event/tavistock-farmers-market-2/2029-06-09/
LOCATION:Bedford Square\, Tavistock\, PL190AE
ATTACH;FMTTYPE=image/png:https://vtavi-b9grp.projectbeta.co.uk/wp-content/uploads/2026/03/Whats-On-10.png
END:VEVENT
BEGIN:VEVENT
DTSTART;TZID=Europe/London:20290623T090000
DTEND;TZID=Europe/London:20290623T140000
DTSTAMP:20260423T000239
CREATED:20260330T142728Z
LAST-MODIFIED:20260330T142728Z
UID:10000197-1876899600-1876917600@vtavi-b9grp.projectbeta.co.uk
SUMMARY:Tavistock Farmers' Market
DESCRIPTION:Come along and enjoy the best farmers’ market in the South West\, featuring a host of local suppliers.
URL:https://vtavi-b9grp.projectbeta.co.uk/event/tavistock-farmers-market/2029-06-23/
LOCATION:Bedford Square\, Tavistock\, PL190AE
ATTACH;FMTTYPE=image/png:https://vtavi-b9grp.projectbeta.co.uk/wp-content/uploads/2026/03/Whats-On-10-1.png
END:VEVENT
BEGIN:VEVENT
DTSTART;TZID=Europe/London:20290714T090000
DTEND;TZID=Europe/London:20290714T140000
DTSTAMP:20260423T000239
CREATED:20260330T142729Z
LAST-MODIFIED:20260330T142729Z
UID:10000138-1878714000-1878732000@vtavi-b9grp.projectbeta.co.uk
SUMMARY:Tavistock Farmers' Market
DESCRIPTION:Come along and enjoy the best farmers’ market in the South West\, featuring a host of local suppliers.
URL:https://vtavi-b9grp.projectbeta.co.uk/event/tavistock-farmers-market-2/2029-07-14/
LOCATION:Bedford Square\, Tavistock\, PL190AE
ATTACH;FMTTYPE=image/png:https://vtavi-b9grp.projectbeta.co.uk/wp-content/uploads/2026/03/Whats-On-10.png
END:VEVENT
BEGIN:VEVENT
DTSTART;TZID=Europe/London:20290728T090000
DTEND;TZID=Europe/London:20290728T140000
DTSTAMP:20260423T000239
CREATED:20260330T142728Z
LAST-MODIFIED:20260330T142728Z
UID:10000198-1879923600-1879941600@vtavi-b9grp.projectbeta.co.uk
SUMMARY:Tavistock Farmers' Market
DESCRIPTION:Come along and enjoy the best farmers’ market in the South West\, featuring a host of local suppliers.
URL:https://vtavi-b9grp.projectbeta.co.uk/event/tavistock-farmers-market/2029-07-28/
LOCATION:Bedford Square\, Tavistock\, PL190AE
ATTACH;FMTTYPE=image/png:https://vtavi-b9grp.projectbeta.co.uk/wp-content/uploads/2026/03/Whats-On-10-1.png
END:VEVENT
BEGIN:VEVENT
DTSTART;TZID=Europe/London:20290811T090000
DTEND;TZID=Europe/London:20290811T140000
DTSTAMP:20260423T000239
CREATED:20260330T142729Z
LAST-MODIFIED:20260330T142729Z
UID:10000139-1881133200-1881151200@vtavi-b9grp.projectbeta.co.uk
SUMMARY:Tavistock Farmers' Market
DESCRIPTION:Come along and enjoy the best farmers’ market in the South West\, featuring a host of local suppliers.
URL:https://vtavi-b9grp.projectbeta.co.uk/event/tavistock-farmers-market-2/2029-08-11/
LOCATION:Bedford Square\, Tavistock\, PL190AE
ATTACH;FMTTYPE=image/png:https://vtavi-b9grp.projectbeta.co.uk/wp-content/uploads/2026/03/Whats-On-10.png
END:VEVENT
BEGIN:VEVENT
DTSTART;TZID=Europe/London:20290825T090000
DTEND;TZID=Europe/London:20290825T140000
DTSTAMP:20260423T000239
CREATED:20260330T142728Z
LAST-MODIFIED:20260330T142728Z
UID:10000199-1882342800-1882360800@vtavi-b9grp.projectbeta.co.uk
SUMMARY:Tavistock Farmers' Market
DESCRIPTION:Come along and enjoy the best farmers’ market in the South West\, featuring a host of local suppliers.
URL:https://vtavi-b9grp.projectbeta.co.uk/event/tavistock-farmers-market/2029-08-25/
LOCATION:Bedford Square\, Tavistock\, PL190AE
ATTACH;FMTTYPE=image/png:https://vtavi-b9grp.projectbeta.co.uk/wp-content/uploads/2026/03/Whats-On-10-1.png
END:VEVENT
BEGIN:VEVENT
DTSTART;TZID=Europe/London:20290908T090000
DTEND;TZID=Europe/London:20290908T140000
DTSTAMP:20260423T000239
CREATED:20260330T142729Z
LAST-MODIFIED:20260330T142729Z
UID:10000140-1883552400-1883570400@vtavi-b9grp.projectbeta.co.uk
SUMMARY:Tavistock Farmers' Market
DESCRIPTION:Come along and enjoy the best farmers’ market in the South West\, featuring a host of local suppliers.
URL:https://vtavi-b9grp.projectbeta.co.uk/event/tavistock-farmers-market-2/2029-09-08/
LOCATION:Bedford Square\, Tavistock\, PL190AE
ATTACH;FMTTYPE=image/png:https://vtavi-b9grp.projectbeta.co.uk/wp-content/uploads/2026/03/Whats-On-10.png
END:VEVENT
END:VCALENDAR