BEGIN:VCALENDAR
VERSION:2.0
PRODID:-//Visit Tavistock - ECPv6.15.17.1//NONSGML v1.0//EN
CALSCALE:GREGORIAN
METHOD:PUBLISH
X-ORIGINAL-URL:https://vtavi-b9grp.projectbeta.co.uk
X-WR-CALDESC:Events for Visit Tavistock
REFRESH-INTERVAL;VALUE=DURATION:PT1H
X-Robots-Tag:noindex
X-PUBLISHED-TTL:PT1H
BEGIN:VTIMEZONE
TZID:Europe/London
BEGIN:DAYLIGHT
TZOFFSETFROM:+0000
TZOFFSETTO:+0100
TZNAME:BST
DTSTART:20280326T010000
END:DAYLIGHT
BEGIN:STANDARD
TZOFFSETFROM:+0100
TZOFFSETTO:+0000
TZNAME:GMT
DTSTART:20281029T010000
END:STANDARD
BEGIN:DAYLIGHT
TZOFFSETFROM:+0000
TZOFFSETTO:+0100
TZNAME:BST
DTSTART:20290325T010000
END:DAYLIGHT
BEGIN:STANDARD
TZOFFSETFROM:+0100
TZOFFSETTO:+0000
TZNAME:GMT
DTSTART:20291028T010000
END:STANDARD
BEGIN:DAYLIGHT
TZOFFSETFROM:+0000
TZOFFSETTO:+0100
TZNAME:BST
DTSTART:20300331T010000
END:DAYLIGHT
BEGIN:STANDARD
TZOFFSETFROM:+0100
TZOFFSETTO:+0000
TZNAME:GMT
DTSTART:20301027T010000
END:STANDARD
BEGIN:DAYLIGHT
TZOFFSETFROM:+0000
TZOFFSETTO:+0100
TZNAME:BST
DTSTART:20310330T010000
END:DAYLIGHT
BEGIN:STANDARD
TZOFFSETFROM:+0100
TZOFFSETTO:+0000
TZNAME:GMT
DTSTART:20311026T010000
END:STANDARD
END:VTIMEZONE
BEGIN:VEVENT
DTSTART;TZID=Europe/London:20290428T090000
DTEND;TZID=Europe/London:20290428T140000
DTSTAMP:20260422T160739
CREATED:20260330T142728Z
LAST-MODIFIED:20260330T142728Z
UID:10000195-1872061200-1872079200@vtavi-b9grp.projectbeta.co.uk
SUMMARY:Tavistock Farmers' Market
DESCRIPTION:Come along and enjoy the best farmers’ market in the South West\, featuring a host of local suppliers.
URL:https://vtavi-b9grp.projectbeta.co.uk/event/tavistock-farmers-market/2029-04-28/
LOCATION:Bedford Square\, Tavistock\, PL190AE
ATTACH;FMTTYPE=image/png:https://vtavi-b9grp.projectbeta.co.uk/wp-content/uploads/2026/03/Whats-On-10-1.png
END:VEVENT
BEGIN:VEVENT
DTSTART;TZID=Europe/London:20290512T090000
DTEND;TZID=Europe/London:20290512T140000
DTSTAMP:20260422T160739
CREATED:20260330T142729Z
LAST-MODIFIED:20260330T142729Z
UID:10000136-1873270800-1873288800@vtavi-b9grp.projectbeta.co.uk
SUMMARY:Tavistock Farmers' Market
DESCRIPTION:Come along and enjoy the best farmers’ market in the South West\, featuring a host of local suppliers.
URL:https://vtavi-b9grp.projectbeta.co.uk/event/tavistock-farmers-market-2/2029-05-12/
LOCATION:Bedford Square\, Tavistock\, PL190AE
ATTACH;FMTTYPE=image/png:https://vtavi-b9grp.projectbeta.co.uk/wp-content/uploads/2026/03/Whats-On-10.png
END:VEVENT
BEGIN:VEVENT
DTSTART;TZID=Europe/London:20290526T090000
DTEND;TZID=Europe/London:20290526T140000
DTSTAMP:20260422T160739
CREATED:20260330T142728Z
LAST-MODIFIED:20260330T142728Z
UID:10000196-1874480400-1874498400@vtavi-b9grp.projectbeta.co.uk
SUMMARY:Tavistock Farmers' Market
DESCRIPTION:Come along and enjoy the best farmers’ market in the South West\, featuring a host of local suppliers.
URL:https://vtavi-b9grp.projectbeta.co.uk/event/tavistock-farmers-market/2029-05-26/
LOCATION:Bedford Square\, Tavistock\, PL190AE
ATTACH;FMTTYPE=image/png:https://vtavi-b9grp.projectbeta.co.uk/wp-content/uploads/2026/03/Whats-On-10-1.png
END:VEVENT
BEGIN:VEVENT
DTSTART;TZID=Europe/London:20290609T090000
DTEND;TZID=Europe/London:20290609T140000
DTSTAMP:20260422T160739
CREATED:20260330T142729Z
LAST-MODIFIED:20260330T142729Z
UID:10000137-1875690000-1875708000@vtavi-b9grp.projectbeta.co.uk
SUMMARY:Tavistock Farmers' Market
DESCRIPTION:Come along and enjoy the best farmers’ market in the South West\, featuring a host of local suppliers.
URL:https://vtavi-b9grp.projectbeta.co.uk/event/tavistock-farmers-market-2/2029-06-09/
LOCATION:Bedford Square\, Tavistock\, PL190AE
ATTACH;FMTTYPE=image/png:https://vtavi-b9grp.projectbeta.co.uk/wp-content/uploads/2026/03/Whats-On-10.png
END:VEVENT
BEGIN:VEVENT
DTSTART;TZID=Europe/London:20290623T090000
DTEND;TZID=Europe/London:20290623T140000
DTSTAMP:20260422T160739
CREATED:20260330T142728Z
LAST-MODIFIED:20260330T142728Z
UID:10000197-1876899600-1876917600@vtavi-b9grp.projectbeta.co.uk
SUMMARY:Tavistock Farmers' Market
DESCRIPTION:Come along and enjoy the best farmers’ market in the South West\, featuring a host of local suppliers.
URL:https://vtavi-b9grp.projectbeta.co.uk/event/tavistock-farmers-market/2029-06-23/
LOCATION:Bedford Square\, Tavistock\, PL190AE
ATTACH;FMTTYPE=image/png:https://vtavi-b9grp.projectbeta.co.uk/wp-content/uploads/2026/03/Whats-On-10-1.png
END:VEVENT
BEGIN:VEVENT
DTSTART;TZID=Europe/London:20290714T090000
DTEND;TZID=Europe/London:20290714T140000
DTSTAMP:20260422T160739
CREATED:20260330T142729Z
LAST-MODIFIED:20260330T142729Z
UID:10000138-1878714000-1878732000@vtavi-b9grp.projectbeta.co.uk
SUMMARY:Tavistock Farmers' Market
DESCRIPTION:Come along and enjoy the best farmers’ market in the South West\, featuring a host of local suppliers.
URL:https://vtavi-b9grp.projectbeta.co.uk/event/tavistock-farmers-market-2/2029-07-14/
LOCATION:Bedford Square\, Tavistock\, PL190AE
ATTACH;FMTTYPE=image/png:https://vtavi-b9grp.projectbeta.co.uk/wp-content/uploads/2026/03/Whats-On-10.png
END:VEVENT
BEGIN:VEVENT
DTSTART;TZID=Europe/London:20290728T090000
DTEND;TZID=Europe/London:20290728T140000
DTSTAMP:20260422T160739
CREATED:20260330T142728Z
LAST-MODIFIED:20260330T142728Z
UID:10000198-1879923600-1879941600@vtavi-b9grp.projectbeta.co.uk
SUMMARY:Tavistock Farmers' Market
DESCRIPTION:Come along and enjoy the best farmers’ market in the South West\, featuring a host of local suppliers.
URL:https://vtavi-b9grp.projectbeta.co.uk/event/tavistock-farmers-market/2029-07-28/
LOCATION:Bedford Square\, Tavistock\, PL190AE
ATTACH;FMTTYPE=image/png:https://vtavi-b9grp.projectbeta.co.uk/wp-content/uploads/2026/03/Whats-On-10-1.png
END:VEVENT
BEGIN:VEVENT
DTSTART;TZID=Europe/London:20290811T090000
DTEND;TZID=Europe/London:20290811T140000
DTSTAMP:20260422T160739
CREATED:20260330T142729Z
LAST-MODIFIED:20260330T142729Z
UID:10000139-1881133200-1881151200@vtavi-b9grp.projectbeta.co.uk
SUMMARY:Tavistock Farmers' Market
DESCRIPTION:Come along and enjoy the best farmers’ market in the South West\, featuring a host of local suppliers.
URL:https://vtavi-b9grp.projectbeta.co.uk/event/tavistock-farmers-market-2/2029-08-11/
LOCATION:Bedford Square\, Tavistock\, PL190AE
ATTACH;FMTTYPE=image/png:https://vtavi-b9grp.projectbeta.co.uk/wp-content/uploads/2026/03/Whats-On-10.png
END:VEVENT
BEGIN:VEVENT
DTSTART;TZID=Europe/London:20290825T090000
DTEND;TZID=Europe/London:20290825T140000
DTSTAMP:20260422T160739
CREATED:20260330T142728Z
LAST-MODIFIED:20260330T142728Z
UID:10000199-1882342800-1882360800@vtavi-b9grp.projectbeta.co.uk
SUMMARY:Tavistock Farmers' Market
DESCRIPTION:Come along and enjoy the best farmers’ market in the South West\, featuring a host of local suppliers.
URL:https://vtavi-b9grp.projectbeta.co.uk/event/tavistock-farmers-market/2029-08-25/
LOCATION:Bedford Square\, Tavistock\, PL190AE
ATTACH;FMTTYPE=image/png:https://vtavi-b9grp.projectbeta.co.uk/wp-content/uploads/2026/03/Whats-On-10-1.png
END:VEVENT
BEGIN:VEVENT
DTSTART;TZID=Europe/London:20290908T090000
DTEND;TZID=Europe/London:20290908T140000
DTSTAMP:20260422T160739
CREATED:20260330T142729Z
LAST-MODIFIED:20260330T142729Z
UID:10000140-1883552400-1883570400@vtavi-b9grp.projectbeta.co.uk
SUMMARY:Tavistock Farmers' Market
DESCRIPTION:Come along and enjoy the best farmers’ market in the South West\, featuring a host of local suppliers.
URL:https://vtavi-b9grp.projectbeta.co.uk/event/tavistock-farmers-market-2/2029-09-08/
LOCATION:Bedford Square\, Tavistock\, PL190AE
ATTACH;FMTTYPE=image/png:https://vtavi-b9grp.projectbeta.co.uk/wp-content/uploads/2026/03/Whats-On-10.png
END:VEVENT
BEGIN:VEVENT
DTSTART;TZID=Europe/London:20290922T090000
DTEND;TZID=Europe/London:20290922T140000
DTSTAMP:20260422T160739
CREATED:20260330T142728Z
LAST-MODIFIED:20260330T142728Z
UID:10000200-1884762000-1884780000@vtavi-b9grp.projectbeta.co.uk
SUMMARY:Tavistock Farmers' Market
DESCRIPTION:Come along and enjoy the best farmers’ market in the South West\, featuring a host of local suppliers.
URL:https://vtavi-b9grp.projectbeta.co.uk/event/tavistock-farmers-market/2029-09-22/
LOCATION:Bedford Square\, Tavistock\, PL190AE
ATTACH;FMTTYPE=image/png:https://vtavi-b9grp.projectbeta.co.uk/wp-content/uploads/2026/03/Whats-On-10-1.png
END:VEVENT
BEGIN:VEVENT
DTSTART;TZID=Europe/London:20291013T090000
DTEND;TZID=Europe/London:20291013T140000
DTSTAMP:20260422T160739
CREATED:20260330T142729Z
LAST-MODIFIED:20260330T142729Z
UID:10000141-1886576400-1886594400@vtavi-b9grp.projectbeta.co.uk
SUMMARY:Tavistock Farmers' Market
DESCRIPTION:Come along and enjoy the best farmers’ market in the South West\, featuring a host of local suppliers.
URL:https://vtavi-b9grp.projectbeta.co.uk/event/tavistock-farmers-market-2/2029-10-13/
LOCATION:Bedford Square\, Tavistock\, PL190AE
ATTACH;FMTTYPE=image/png:https://vtavi-b9grp.projectbeta.co.uk/wp-content/uploads/2026/03/Whats-On-10.png
END:VEVENT
BEGIN:VEVENT
DTSTART;TZID=Europe/London:20291027T090000
DTEND;TZID=Europe/London:20291027T140000
DTSTAMP:20260422T160739
CREATED:20260330T142728Z
LAST-MODIFIED:20260330T142728Z
UID:10000201-1887786000-1887804000@vtavi-b9grp.projectbeta.co.uk
SUMMARY:Tavistock Farmers' Market
DESCRIPTION:Come along and enjoy the best farmers’ market in the South West\, featuring a host of local suppliers.
URL:https://vtavi-b9grp.projectbeta.co.uk/event/tavistock-farmers-market/2029-10-27/
LOCATION:Bedford Square\, Tavistock\, PL190AE
ATTACH;FMTTYPE=image/png:https://vtavi-b9grp.projectbeta.co.uk/wp-content/uploads/2026/03/Whats-On-10-1.png
END:VEVENT
BEGIN:VEVENT
DTSTART;TZID=Europe/London:20291110T090000
DTEND;TZID=Europe/London:20291110T140000
DTSTAMP:20260422T160739
CREATED:20260330T142729Z
LAST-MODIFIED:20260330T142729Z
UID:10000142-1888995600-1889013600@vtavi-b9grp.projectbeta.co.uk
SUMMARY:Tavistock Farmers' Market
DESCRIPTION:Come along and enjoy the best farmers’ market in the South West\, featuring a host of local suppliers.
URL:https://vtavi-b9grp.projectbeta.co.uk/event/tavistock-farmers-market-2/2029-11-10/
LOCATION:Bedford Square\, Tavistock\, PL190AE
ATTACH;FMTTYPE=image/png:https://vtavi-b9grp.projectbeta.co.uk/wp-content/uploads/2026/03/Whats-On-10.png
END:VEVENT
BEGIN:VEVENT
DTSTART;TZID=Europe/London:20291124T090000
DTEND;TZID=Europe/London:20291124T140000
DTSTAMP:20260422T160739
CREATED:20260330T142728Z
LAST-MODIFIED:20260330T142728Z
UID:10000202-1890205200-1890223200@vtavi-b9grp.projectbeta.co.uk
SUMMARY:Tavistock Farmers' Market
DESCRIPTION:Come along and enjoy the best farmers’ market in the South West\, featuring a host of local suppliers.
URL:https://vtavi-b9grp.projectbeta.co.uk/event/tavistock-farmers-market/2029-11-24/
LOCATION:Bedford Square\, Tavistock\, PL190AE
ATTACH;FMTTYPE=image/png:https://vtavi-b9grp.projectbeta.co.uk/wp-content/uploads/2026/03/Whats-On-10-1.png
END:VEVENT
BEGIN:VEVENT
DTSTART;TZID=Europe/London:20291208T090000
DTEND;TZID=Europe/London:20291208T140000
DTSTAMP:20260422T160739
CREATED:20260330T142729Z
LAST-MODIFIED:20260330T142729Z
UID:10000143-1891414800-1891432800@vtavi-b9grp.projectbeta.co.uk
SUMMARY:Tavistock Farmers' Market
DESCRIPTION:Come along and enjoy the best farmers’ market in the South West\, featuring a host of local suppliers.
URL:https://vtavi-b9grp.projectbeta.co.uk/event/tavistock-farmers-market-2/2029-12-08/
LOCATION:Bedford Square\, Tavistock\, PL190AE
ATTACH;FMTTYPE=image/png:https://vtavi-b9grp.projectbeta.co.uk/wp-content/uploads/2026/03/Whats-On-10.png
END:VEVENT
BEGIN:VEVENT
DTSTART;TZID=Europe/London:20291222T090000
DTEND;TZID=Europe/London:20291222T140000
DTSTAMP:20260422T160739
CREATED:20260330T142728Z
LAST-MODIFIED:20260330T142728Z
UID:10000203-1892624400-1892642400@vtavi-b9grp.projectbeta.co.uk
SUMMARY:Tavistock Farmers' Market
DESCRIPTION:Come along and enjoy the best farmers’ market in the South West\, featuring a host of local suppliers.
URL:https://vtavi-b9grp.projectbeta.co.uk/event/tavistock-farmers-market/2029-12-22/
LOCATION:Bedford Square\, Tavistock\, PL190AE
ATTACH;FMTTYPE=image/png:https://vtavi-b9grp.projectbeta.co.uk/wp-content/uploads/2026/03/Whats-On-10-1.png
END:VEVENT
BEGIN:VEVENT
DTSTART;TZID=Europe/London:20300112T090000
DTEND;TZID=Europe/London:20300112T140000
DTSTAMP:20260422T160739
CREATED:20260330T142729Z
LAST-MODIFIED:20260330T142729Z
UID:10000144-1894438800-1894456800@vtavi-b9grp.projectbeta.co.uk
SUMMARY:Tavistock Farmers' Market
DESCRIPTION:Come along and enjoy the best farmers’ market in the South West\, featuring a host of local suppliers.
URL:https://vtavi-b9grp.projectbeta.co.uk/event/tavistock-farmers-market-2/2030-01-12/
LOCATION:Bedford Square\, Tavistock\, PL190AE
ATTACH;FMTTYPE=image/png:https://vtavi-b9grp.projectbeta.co.uk/wp-content/uploads/2026/03/Whats-On-10.png
END:VEVENT
BEGIN:VEVENT
DTSTART;TZID=Europe/London:20300126T090000
DTEND;TZID=Europe/London:20300126T140000
DTSTAMP:20260422T160739
CREATED:20260330T142728Z
LAST-MODIFIED:20260330T142728Z
UID:10000204-1895648400-1895666400@vtavi-b9grp.projectbeta.co.uk
SUMMARY:Tavistock Farmers' Market
DESCRIPTION:Come along and enjoy the best farmers’ market in the South West\, featuring a host of local suppliers.
URL:https://vtavi-b9grp.projectbeta.co.uk/event/tavistock-farmers-market/2030-01-26/
LOCATION:Bedford Square\, Tavistock\, PL190AE
ATTACH;FMTTYPE=image/png:https://vtavi-b9grp.projectbeta.co.uk/wp-content/uploads/2026/03/Whats-On-10-1.png
END:VEVENT
BEGIN:VEVENT
DTSTART;TZID=Europe/London:20300209T090000
DTEND;TZID=Europe/London:20300209T140000
DTSTAMP:20260422T160739
CREATED:20260330T142729Z
LAST-MODIFIED:20260330T142729Z
UID:10000145-1896858000-1896876000@vtavi-b9grp.projectbeta.co.uk
SUMMARY:Tavistock Farmers' Market
DESCRIPTION:Come along and enjoy the best farmers’ market in the South West\, featuring a host of local suppliers.
URL:https://vtavi-b9grp.projectbeta.co.uk/event/tavistock-farmers-market-2/2030-02-09/
LOCATION:Bedford Square\, Tavistock\, PL190AE
ATTACH;FMTTYPE=image/png:https://vtavi-b9grp.projectbeta.co.uk/wp-content/uploads/2026/03/Whats-On-10.png
END:VEVENT
BEGIN:VEVENT
DTSTART;TZID=Europe/London:20300223T090000
DTEND;TZID=Europe/London:20300223T140000
DTSTAMP:20260422T160739
CREATED:20260330T142728Z
LAST-MODIFIED:20260330T142728Z
UID:10000205-1898067600-1898085600@vtavi-b9grp.projectbeta.co.uk
SUMMARY:Tavistock Farmers' Market
DESCRIPTION:Come along and enjoy the best farmers’ market in the South West\, featuring a host of local suppliers.
URL:https://vtavi-b9grp.projectbeta.co.uk/event/tavistock-farmers-market/2030-02-23/
LOCATION:Bedford Square\, Tavistock\, PL190AE
ATTACH;FMTTYPE=image/png:https://vtavi-b9grp.projectbeta.co.uk/wp-content/uploads/2026/03/Whats-On-10-1.png
END:VEVENT
BEGIN:VEVENT
DTSTART;TZID=Europe/London:20300309T090000
DTEND;TZID=Europe/London:20300309T140000
DTSTAMP:20260422T160739
CREATED:20260330T142729Z
LAST-MODIFIED:20260330T142729Z
UID:10000146-1899277200-1899295200@vtavi-b9grp.projectbeta.co.uk
SUMMARY:Tavistock Farmers' Market
DESCRIPTION:Come along and enjoy the best farmers’ market in the South West\, featuring a host of local suppliers.
URL:https://vtavi-b9grp.projectbeta.co.uk/event/tavistock-farmers-market-2/2030-03-09/
LOCATION:Bedford Square\, Tavistock\, PL190AE
ATTACH;FMTTYPE=image/png:https://vtavi-b9grp.projectbeta.co.uk/wp-content/uploads/2026/03/Whats-On-10.png
END:VEVENT
BEGIN:VEVENT
DTSTART;TZID=Europe/London:20300323T090000
DTEND;TZID=Europe/London:20300323T140000
DTSTAMP:20260422T160739
CREATED:20260330T142728Z
LAST-MODIFIED:20260330T142728Z
UID:10000206-1900486800-1900504800@vtavi-b9grp.projectbeta.co.uk
SUMMARY:Tavistock Farmers' Market
DESCRIPTION:Come along and enjoy the best farmers’ market in the South West\, featuring a host of local suppliers.
URL:https://vtavi-b9grp.projectbeta.co.uk/event/tavistock-farmers-market/2030-03-23/
LOCATION:Bedford Square\, Tavistock\, PL190AE
ATTACH;FMTTYPE=image/png:https://vtavi-b9grp.projectbeta.co.uk/wp-content/uploads/2026/03/Whats-On-10-1.png
END:VEVENT
BEGIN:VEVENT
DTSTART;TZID=Europe/London:20300413T090000
DTEND;TZID=Europe/London:20300413T140000
DTSTAMP:20260422T160739
CREATED:20260330T142729Z
LAST-MODIFIED:20260330T142729Z
UID:10000147-1902301200-1902319200@vtavi-b9grp.projectbeta.co.uk
SUMMARY:Tavistock Farmers' Market
DESCRIPTION:Come along and enjoy the best farmers’ market in the South West\, featuring a host of local suppliers.
URL:https://vtavi-b9grp.projectbeta.co.uk/event/tavistock-farmers-market-2/2030-04-13/
LOCATION:Bedford Square\, Tavistock\, PL190AE
ATTACH;FMTTYPE=image/png:https://vtavi-b9grp.projectbeta.co.uk/wp-content/uploads/2026/03/Whats-On-10.png
END:VEVENT
BEGIN:VEVENT
DTSTART;TZID=Europe/London:20300427T090000
DTEND;TZID=Europe/London:20300427T140000
DTSTAMP:20260422T160739
CREATED:20260330T142728Z
LAST-MODIFIED:20260330T142728Z
UID:10000207-1903510800-1903528800@vtavi-b9grp.projectbeta.co.uk
SUMMARY:Tavistock Farmers' Market
DESCRIPTION:Come along and enjoy the best farmers’ market in the South West\, featuring a host of local suppliers.
URL:https://vtavi-b9grp.projectbeta.co.uk/event/tavistock-farmers-market/2030-04-27/
LOCATION:Bedford Square\, Tavistock\, PL190AE
ATTACH;FMTTYPE=image/png:https://vtavi-b9grp.projectbeta.co.uk/wp-content/uploads/2026/03/Whats-On-10-1.png
END:VEVENT
BEGIN:VEVENT
DTSTART;TZID=Europe/London:20300511T090000
DTEND;TZID=Europe/London:20300511T140000
DTSTAMP:20260422T160739
CREATED:20260330T142729Z
LAST-MODIFIED:20260330T142729Z
UID:10000148-1904720400-1904738400@vtavi-b9grp.projectbeta.co.uk
SUMMARY:Tavistock Farmers' Market
DESCRIPTION:Come along and enjoy the best farmers’ market in the South West\, featuring a host of local suppliers.
URL:https://vtavi-b9grp.projectbeta.co.uk/event/tavistock-farmers-market-2/2030-05-11/
LOCATION:Bedford Square\, Tavistock\, PL190AE
ATTACH;FMTTYPE=image/png:https://vtavi-b9grp.projectbeta.co.uk/wp-content/uploads/2026/03/Whats-On-10.png
END:VEVENT
BEGIN:VEVENT
DTSTART;TZID=Europe/London:20300525T090000
DTEND;TZID=Europe/London:20300525T140000
DTSTAMP:20260422T160739
CREATED:20260330T142728Z
LAST-MODIFIED:20260330T142728Z
UID:10000208-1905930000-1905948000@vtavi-b9grp.projectbeta.co.uk
SUMMARY:Tavistock Farmers' Market
DESCRIPTION:Come along and enjoy the best farmers’ market in the South West\, featuring a host of local suppliers.
URL:https://vtavi-b9grp.projectbeta.co.uk/event/tavistock-farmers-market/2030-05-25/
LOCATION:Bedford Square\, Tavistock\, PL190AE
ATTACH;FMTTYPE=image/png:https://vtavi-b9grp.projectbeta.co.uk/wp-content/uploads/2026/03/Whats-On-10-1.png
END:VEVENT
BEGIN:VEVENT
DTSTART;TZID=Europe/London:20300608T090000
DTEND;TZID=Europe/London:20300608T140000
DTSTAMP:20260422T160739
CREATED:20260330T142729Z
LAST-MODIFIED:20260330T142729Z
UID:10000149-1907139600-1907157600@vtavi-b9grp.projectbeta.co.uk
SUMMARY:Tavistock Farmers' Market
DESCRIPTION:Come along and enjoy the best farmers’ market in the South West\, featuring a host of local suppliers.
URL:https://vtavi-b9grp.projectbeta.co.uk/event/tavistock-farmers-market-2/2030-06-08/
LOCATION:Bedford Square\, Tavistock\, PL190AE
ATTACH;FMTTYPE=image/png:https://vtavi-b9grp.projectbeta.co.uk/wp-content/uploads/2026/03/Whats-On-10.png
END:VEVENT
BEGIN:VEVENT
DTSTART;TZID=Europe/London:20300622T090000
DTEND;TZID=Europe/London:20300622T140000
DTSTAMP:20260422T160739
CREATED:20260330T142728Z
LAST-MODIFIED:20260330T142728Z
UID:10000209-1908349200-1908367200@vtavi-b9grp.projectbeta.co.uk
SUMMARY:Tavistock Farmers' Market
DESCRIPTION:Come along and enjoy the best farmers’ market in the South West\, featuring a host of local suppliers.
URL:https://vtavi-b9grp.projectbeta.co.uk/event/tavistock-farmers-market/2030-06-22/
LOCATION:Bedford Square\, Tavistock\, PL190AE
ATTACH;FMTTYPE=image/png:https://vtavi-b9grp.projectbeta.co.uk/wp-content/uploads/2026/03/Whats-On-10-1.png
END:VEVENT
BEGIN:VEVENT
DTSTART;TZID=Europe/London:20300713T090000
DTEND;TZID=Europe/London:20300713T140000
DTSTAMP:20260422T160739
CREATED:20260330T142729Z
LAST-MODIFIED:20260330T142729Z
UID:10000150-1910163600-1910181600@vtavi-b9grp.projectbeta.co.uk
SUMMARY:Tavistock Farmers' Market
DESCRIPTION:Come along and enjoy the best farmers’ market in the South West\, featuring a host of local suppliers.
URL:https://vtavi-b9grp.projectbeta.co.uk/event/tavistock-farmers-market-2/2030-07-13/
LOCATION:Bedford Square\, Tavistock\, PL190AE
ATTACH;FMTTYPE=image/png:https://vtavi-b9grp.projectbeta.co.uk/wp-content/uploads/2026/03/Whats-On-10.png
END:VEVENT
END:VCALENDAR